BEGIN:VCALENDAR
VERSION:2.0
PRODID:-//IAEI - ECPv6.15.20//NONSGML v1.0//EN
CALSCALE:GREGORIAN
METHOD:PUBLISH
X-WR-CALNAME:IAEI
X-ORIGINAL-URL:https://iaeiwesternpa.org
X-WR-CALDESC:Events for IAEI
REFRESH-INTERVAL;VALUE=DURATION:PT1H
X-Robots-Tag:noindex
X-PUBLISHED-TTL:PT1H
BEGIN:VTIMEZONE
TZID:UTC
BEGIN:STANDARD
TZOFFSETFROM:+0000
TZOFFSETTO:+0000
TZNAME:UTC
DTSTART:20150101T000000
END:STANDARD
END:VTIMEZONE
BEGIN:VEVENT
DTSTART;TZID=UTC:20210218T190000
DTEND;TZID=UTC:20210218T210000
DTSTAMP:20260419T232913
CREATED:20210119T025153Z
LAST-MODIFIED:20210119T025153Z
UID:462-1613674800-1613682000@iaeiwesternpa.org
SUMMARY:February IAEI Meeting
DESCRIPTION:
URL:https://iaeiwesternpa.org/calendar/february-iaei-meeting/
END:VEVENT
BEGIN:VEVENT
DTSTART;TZID=UTC:20210121T190000
DTEND;TZID=UTC:20210121T210000
DTSTAMP:20260419T232913
CREATED:20210119T025108Z
LAST-MODIFIED:20210119T025108Z
UID:460-1611255600-1611262800@iaeiwesternpa.org
SUMMARY:IAEI January Meeting
DESCRIPTION:
URL:https://iaeiwesternpa.org/calendar/iaei-january-meeting/
END:VEVENT
BEGIN:VEVENT
DTSTART;TZID=UTC:20201119T183000
DTEND;TZID=UTC:20201119T203000
DTSTAMP:20260419T232913
CREATED:20200915T215732Z
LAST-MODIFIED:20200915T215732Z
UID:444-1605810600-1605817800@iaeiwesternpa.org
SUMMARY:IAEI November Meeting
DESCRIPTION:
URL:https://iaeiwesternpa.org/calendar/iaei-november-meeting/
END:VEVENT
BEGIN:VEVENT
DTSTART;TZID=UTC:20201015T183000
DTEND;TZID=UTC:20201015T203000
DTSTAMP:20260419T232913
CREATED:20200915T215609Z
LAST-MODIFIED:20200915T215609Z
UID:442-1602786600-1602793800@iaeiwesternpa.org
SUMMARY:IAEI October Meeting
DESCRIPTION:
URL:https://iaeiwesternpa.org/calendar/iaei-october-meeting/
END:VEVENT
BEGIN:VEVENT
DTSTART;TZID=UTC:20200917T183000
DTEND;TZID=UTC:20200917T203000
DTSTAMP:20260419T232913
CREATED:20200915T215305Z
LAST-MODIFIED:20200915T215637Z
UID:437-1600367400-1600374600@iaeiwesternpa.org
SUMMARY:IAEI September Meeting 6:30
DESCRIPTION:Zoom Meeting
URL:https://iaeiwesternpa.org/calendar/iaei-september-meeting-2/
END:VEVENT
BEGIN:VEVENT
DTSTART;TZID=UTC:20191121T190000
DTEND;TZID=UTC:20191121T210000
DTSTAMP:20260419T232913
CREATED:20190313T005600Z
LAST-MODIFIED:20190916T215419Z
UID:243-1574362800-1574370000@iaeiwesternpa.org
SUMMARY:IAEI November Meeting 7:00pm
DESCRIPTION:
URL:https://iaeiwesternpa.org/calendar/november-meeting-3/
LOCATION:Gaetano’s Restaurant \, 1617 Banksville Road \, Pittsburgh\, PA\, 15216\, United States
END:VEVENT
BEGIN:VEVENT
DTSTART;TZID=UTC:20191017T190000
DTEND;TZID=UTC:20191017T210000
DTSTAMP:20260419T232913
CREATED:20190313T005508Z
LAST-MODIFIED:20190916T215408Z
UID:241-1571338800-1571346000@iaeiwesternpa.org
SUMMARY:IAEI October Meeting 7:00pm
DESCRIPTION:
URL:https://iaeiwesternpa.org/calendar/october-meeting-6/
LOCATION:Gaetano’s Restaurant \, 1617 Banksville Road \, Pittsburgh\, PA\, 15216\, United States
END:VEVENT
BEGIN:VEVENT
DTSTART;TZID=UTC:20190919T190000
DTEND;TZID=UTC:20190919T210000
DTSTAMP:20260419T232913
CREATED:20190313T005355Z
LAST-MODIFIED:20190916T215353Z
UID:239-1568919600-1568926800@iaeiwesternpa.org
SUMMARY:IAEI September Meeting 7:00pm
DESCRIPTION:
URL:https://iaeiwesternpa.org/calendar/september-meeting/
LOCATION:Gaetano’s Restaurant \, 1617 Banksville Road \, Pittsburgh\, PA\, 15216\, United States
END:VEVENT
BEGIN:VEVENT
DTSTART;TZID=UTC:20190516T190000
DTEND;TZID=UTC:20190516T210000
DTSTAMP:20260419T232913
CREATED:20190313T005303Z
LAST-MODIFIED:20190313T005720Z
UID:237-1558033200-1558040400@iaeiwesternpa.org
SUMMARY:May Meeting 7:00pm
DESCRIPTION:
URL:https://iaeiwesternpa.org/calendar/may-meeting/
LOCATION:Gaetano’s Restaurant \, 1617 Banksville Road \, Pittsburgh\, PA\, 15216\, United States
END:VEVENT
BEGIN:VEVENT
DTSTART;TZID=UTC:20190514T080000
DTEND;TZID=UTC:20190514T170000
DTSTAMP:20260419T232913
CREATED:20190416T121838Z
LAST-MODIFIED:20190416T121838Z
UID:266-1557820800-1557853200@iaeiwesternpa.org
SUMMARY:Electric League EXPO
DESCRIPTION:
URL:https://iaeiwesternpa.org/calendar/electric-league-expo/
END:VEVENT
BEGIN:VEVENT
DTSTART;TZID=UTC:20190411T190000
DTEND;TZID=UTC:20190411T210000
DTSTAMP:20260419T232913
CREATED:20190313T005224Z
LAST-MODIFIED:20190313T005711Z
UID:235-1555009200-1555016400@iaeiwesternpa.org
SUMMARY:April Meeting 7:00pm
DESCRIPTION:
URL:https://iaeiwesternpa.org/calendar/april-meeting/
LOCATION:Gaetano’s Restaurant \, 1617 Banksville Road \, Pittsburgh\, PA\, 15216\, United States
END:VEVENT
BEGIN:VEVENT
DTSTART;TZID=UTC:20190321T190000
DTEND;TZID=UTC:20190321T210000
DTSTAMP:20260419T232913
CREATED:20190313T005140Z
LAST-MODIFIED:20190313T005702Z
UID:233-1553194800-1553202000@iaeiwesternpa.org
SUMMARY:March Meeting 7:00pm
DESCRIPTION:
URL:https://iaeiwesternpa.org/calendar/march-meeting/
LOCATION:Gaetano’s Restaurant \, 1617 Banksville Road \, Pittsburgh\, PA\, 15216\, United States
END:VEVENT
BEGIN:VEVENT
DTSTART;TZID=UTC:20190321T080000
DTEND;TZID=UTC:20190321T163000
DTSTAMP:20260419T232913
CREATED:20190305T024021Z
LAST-MODIFIED:20190305T024342Z
UID:221-1553155200-1553185800@iaeiwesternpa.org
SUMMARY:CEU Seminar
DESCRIPTION:Registration: 7:30am\nProgram Begins: 8:00am\nLunch: 12:00pm – 12:30pm\nProgram Ends – 4:30pm
URL:https://iaeiwesternpa.org/calendar/ceu-seminar/
LOCATION:Gaetano’s Restaurant \, 1617 Banksville Road \, Pittsburgh\, PA\, 15216\, United States
END:VEVENT
BEGIN:VEVENT
DTSTART;TZID=UTC:20190221T190000
DTEND;TZID=UTC:20190224T210000
DTSTAMP:20260419T232913
CREATED:20190218T031615Z
LAST-MODIFIED:20190218T031615Z
UID:197-1550775600-1551042000@iaeiwesternpa.org
SUMMARY:February 21\, 2019 Meeting
DESCRIPTION:
URL:https://iaeiwesternpa.org/calendar/february-21-2019-meeting/
END:VEVENT
BEGIN:VEVENT
DTSTART;TZID=UTC:20190117T190000
DTEND;TZID=UTC:20190117T210000
DTSTAMP:20260419T232914
CREATED:20190114T001025Z
LAST-MODIFIED:20190114T001025Z
UID:189-1547751600-1547758800@iaeiwesternpa.org
SUMMARY:January 17\, 2019 Meeting
DESCRIPTION:
URL:https://iaeiwesternpa.org/calendar/january-17-2019-meeting/
END:VEVENT
BEGIN:VEVENT
DTSTART;TZID=UTC:20181115T190000
DTEND;TZID=UTC:20181115T210000
DTSTAMP:20260419T232914
CREATED:20181113T002422Z
LAST-MODIFIED:20181113T002422Z
UID:185-1542308400-1542315600@iaeiwesternpa.org
SUMMARY:November Meeting
DESCRIPTION:
URL:https://iaeiwesternpa.org/calendar/november-meeting-2/
END:VEVENT
BEGIN:VEVENT
DTSTART;TZID=UTC:20181018T190000
DTEND;TZID=UTC:20181018T210000
DTSTAMP:20260419T232914
CREATED:20181014T234311Z
LAST-MODIFIED:20181014T234350Z
UID:180-1539889200-1539896400@iaeiwesternpa.org
SUMMARY:October Meeting
DESCRIPTION:Gaetano’s Restaurant \n1617 Banksville Road \nPittsburgh\, PA 15216 \n412-343-6640
URL:https://iaeiwesternpa.org/calendar/october-meeting-5/
END:VEVENT
BEGIN:VEVENT
DTSTART;TZID=UTC:20180920T190000
DTEND;TZID=UTC:20180920T210000
DTSTAMP:20260419T232914
CREATED:20180918T000539Z
LAST-MODIFIED:20180918T000624Z
UID:171-1537470000-1537477200@iaeiwesternpa.org
SUMMARY:IAEI Monthly Meeting - 7pm
DESCRIPTION:
URL:https://iaeiwesternpa.org/calendar/iaei-monthly-meeting-2/
END:VEVENT
BEGIN:VEVENT
DTSTART;TZID=UTC:20180419T190000
DTEND;TZID=UTC:20180419T213000
DTSTAMP:20260419T232914
CREATED:20180415T201553Z
LAST-MODIFIED:20180415T201553Z
UID:167-1524164400-1524173400@iaeiwesternpa.org
SUMMARY:IAEI Monthly Meeting
DESCRIPTION:
URL:https://iaeiwesternpa.org/calendar/iaei-monthly-meeting/
END:VEVENT
BEGIN:VEVENT
DTSTART;TZID=UTC:20180215T190000
DTEND;TZID=UTC:20180215T210000
DTSTAMP:20260419T232914
CREATED:20180214T014551Z
LAST-MODIFIED:20180214T014650Z
UID:159-1518721200-1518728400@iaeiwesternpa.org
SUMMARY:IAEI Monthly Meeting - 7pm
DESCRIPTION:
URL:https://iaeiwesternpa.org/calendar/february-meeting-2/
END:VEVENT
BEGIN:VEVENT
DTSTART;TZID=UTC:20171019T190000
DTEND;TZID=UTC:20171019T213000
DTSTAMP:20260419T232914
CREATED:20171017T001444Z
LAST-MODIFIED:20171017T001444Z
UID:149-1508439600-1508448600@iaeiwesternpa.org
SUMMARY:October Meeting
DESCRIPTION:
URL:https://iaeiwesternpa.org/calendar/october-meeting-4/
LOCATION:Gaetano’s Restaurant \, 1617 Banksville Road \, Pittsburgh\, PA\, 15216\, United States
END:VEVENT
BEGIN:VEVENT
DTSTART;TZID=UTC:20170921T190000
DTEND;TZID=UTC:20170921T213000
DTSTAMP:20260419T232914
CREATED:20170918T225705Z
LAST-MODIFIED:20170918T225740Z
UID:143-1506020400-1506029400@iaeiwesternpa.org
SUMMARY:IAEI September Meeting
DESCRIPTION:Sponsor: West Penn Wire
URL:https://iaeiwesternpa.org/calendar/iaei-september-meeting/
END:VEVENT
BEGIN:VEVENT
DTSTART;TZID=UTC:20161117T190000
DTEND;TZID=UTC:20161117T210000
DTSTAMP:20260419T232914
CREATED:20161020T193229Z
LAST-MODIFIED:20161020T193229Z
UID:131-1479409200-1479416400@iaeiwesternpa.org
SUMMARY:November Meeting
DESCRIPTION:
URL:https://iaeiwesternpa.org/calendar/november-meeting/
LOCATION:Gaetano’s Restaurant \, 1617 Banksville Road \, Pittsburgh\, PA\, 15216\, United States
END:VEVENT
BEGIN:VEVENT
DTSTART;TZID=UTC:20161020T190000
DTEND;TZID=UTC:20161020T210000
DTSTAMP:20260419T232914
CREATED:20161020T193005Z
LAST-MODIFIED:20161020T193005Z
UID:128-1476990000-1476997200@iaeiwesternpa.org
SUMMARY:October Meeting
DESCRIPTION:
URL:https://iaeiwesternpa.org/calendar/october-meeting-3/
LOCATION:Gaetano’s Restaurant \, 1617 Banksville Road \, Pittsburgh\, PA\, 15216\, United States
END:VEVENT
END:VCALENDAR